BEGIN:VCALENDAR
VERSION:2.0
PRODID:-//Grafschaft Gelsdorf - ECPv6.15.20//NONSGML v1.0//EN
CALSCALE:GREGORIAN
METHOD:PUBLISH
X-ORIGINAL-URL:https://www.grafschaft-gelsdorf.de
X-WR-CALDESC:Veranstaltungen für Grafschaft Gelsdorf
REFRESH-INTERVAL;VALUE=DURATION:PT1H
X-Robots-Tag:noindex
X-PUBLISHED-TTL:PT1H
BEGIN:VTIMEZONE
TZID:Europe/Helsinki
BEGIN:DAYLIGHT
TZOFFSETFROM:+0200
TZOFFSETTO:+0300
TZNAME:EEST
DTSTART:20230326T010000
END:DAYLIGHT
BEGIN:STANDARD
TZOFFSETFROM:+0300
TZOFFSETTO:+0200
TZNAME:EET
DTSTART:20231029T010000
END:STANDARD
BEGIN:DAYLIGHT
TZOFFSETFROM:+0200
TZOFFSETTO:+0300
TZNAME:EEST
DTSTART:20240331T010000
END:DAYLIGHT
BEGIN:STANDARD
TZOFFSETFROM:+0300
TZOFFSETTO:+0200
TZNAME:EET
DTSTART:20241027T010000
END:STANDARD
BEGIN:DAYLIGHT
TZOFFSETFROM:+0200
TZOFFSETTO:+0300
TZNAME:EEST
DTSTART:20250330T010000
END:DAYLIGHT
BEGIN:STANDARD
TZOFFSETFROM:+0300
TZOFFSETTO:+0200
TZNAME:EET
DTSTART:20251026T010000
END:STANDARD
END:VTIMEZONE
BEGIN:VEVENT
DTSTART;TZID=Europe/Helsinki:20241108T173000
DTEND;TZID=Europe/Helsinki:20241108T220000
DTSTAMP:20260423T141404
CREATED:20241022T061428Z
LAST-MODIFIED:20241022T061428Z
UID:1453-1731087000-1731103200@www.grafschaft-gelsdorf.de
SUMMARY:St. Martin in Gelsdorf
DESCRIPTION:Auch in 2024 organisieren die Gelsdorfer Möhnen unseren St. Martinsumzug. \nAblaufplan: \n\n17:00 Uhr Aufstellen am „Decke Steen“\n17:30 Uhr Laternenzug zum Feuer\, begleitet von den Landsknechten Wormersdorf\nDanach gemütliches Beisammensein am Pfarrheim
URL:https://www.grafschaft-gelsdorf.de/event/st-martin-in-gelsdorf/
LOCATION:Dicke Steen\, Burgstraße 35\, Grafschaft\, 53501\, Germany
ATTACH;FMTTYPE=image/webp:https://www.grafschaft-gelsdorf.de/wp-content/uploads/2024/10/Moe-Martin-24.webp
END:VEVENT
END:VCALENDAR