BEGIN:VCALENDAR
VERSION:2.0
PRODID:-//Grafschaft Gelsdorf - ECPv6.15.20//NONSGML v1.0//EN
CALSCALE:GREGORIAN
METHOD:PUBLISH
X-WR-CALNAME:Grafschaft Gelsdorf
X-ORIGINAL-URL:https://www.grafschaft-gelsdorf.de
X-WR-CALDESC:Veranstaltungen für Grafschaft Gelsdorf
REFRESH-INTERVAL;VALUE=DURATION:PT1H
X-Robots-Tag:noindex
X-PUBLISHED-TTL:PT1H
BEGIN:VTIMEZONE
TZID:Europe/Helsinki
BEGIN:DAYLIGHT
TZOFFSETFROM:+0200
TZOFFSETTO:+0300
TZNAME:EEST
DTSTART:20230326T010000
END:DAYLIGHT
BEGIN:STANDARD
TZOFFSETFROM:+0300
TZOFFSETTO:+0200
TZNAME:EET
DTSTART:20231029T010000
END:STANDARD
BEGIN:DAYLIGHT
TZOFFSETFROM:+0200
TZOFFSETTO:+0300
TZNAME:EEST
DTSTART:20240331T010000
END:DAYLIGHT
BEGIN:STANDARD
TZOFFSETFROM:+0300
TZOFFSETTO:+0200
TZNAME:EET
DTSTART:20241027T010000
END:STANDARD
BEGIN:DAYLIGHT
TZOFFSETFROM:+0200
TZOFFSETTO:+0300
TZNAME:EEST
DTSTART:20250330T010000
END:DAYLIGHT
BEGIN:STANDARD
TZOFFSETFROM:+0300
TZOFFSETTO:+0200
TZNAME:EET
DTSTART:20251026T010000
END:STANDARD
END:VTIMEZONE
BEGIN:VEVENT
DTSTART;TZID=Europe/Helsinki:20241130T150000
DTEND;TZID=Europe/Helsinki:20241130T230000
DTSTAMP:20260423T143457
CREATED:20240804T125506Z
LAST-MODIFIED:20240804T125905Z
UID:1275-1732978800-1733007600@www.grafschaft-gelsdorf.de
SUMMARY:Dorfweihnacht am Decke Steen
DESCRIPTION:Malen und Basteln für Kinder\nFrische Waffeln\nBesuch vom Nikolaus\nKinderpunsch\nKinderkarussell\nGrillwürste\nGlühwein\nLeckere Reibekuchen\n… und ganz viel Geselligkeit!
URL:https://www.grafschaft-gelsdorf.de/event/dorfweihnacht-am-decke-stehen/
END:VEVENT
END:VCALENDAR