BEGIN:VCALENDAR
VERSION:2.0
PRODID:-//Grafschaft Gelsdorf - ECPv6.15.20//NONSGML v1.0//EN
CALSCALE:GREGORIAN
METHOD:PUBLISH
X-ORIGINAL-URL:https://www.grafschaft-gelsdorf.de
X-WR-CALDESC:Veranstaltungen für Grafschaft Gelsdorf
REFRESH-INTERVAL;VALUE=DURATION:PT1H
X-Robots-Tag:noindex
X-PUBLISHED-TTL:PT1H
BEGIN:VTIMEZONE
TZID:Europe/Helsinki
BEGIN:DAYLIGHT
TZOFFSETFROM:+0200
TZOFFSETTO:+0300
TZNAME:EEST
DTSTART:20240331T010000
END:DAYLIGHT
BEGIN:STANDARD
TZOFFSETFROM:+0300
TZOFFSETTO:+0200
TZNAME:EET
DTSTART:20241027T010000
END:STANDARD
BEGIN:DAYLIGHT
TZOFFSETFROM:+0200
TZOFFSETTO:+0300
TZNAME:EEST
DTSTART:20250330T010000
END:DAYLIGHT
BEGIN:STANDARD
TZOFFSETFROM:+0300
TZOFFSETTO:+0200
TZNAME:EET
DTSTART:20251026T010000
END:STANDARD
BEGIN:DAYLIGHT
TZOFFSETFROM:+0200
TZOFFSETTO:+0300
TZNAME:EEST
DTSTART:20260329T010000
END:DAYLIGHT
BEGIN:STANDARD
TZOFFSETFROM:+0300
TZOFFSETTO:+0200
TZNAME:EET
DTSTART:20261025T010000
END:STANDARD
END:VTIMEZONE
BEGIN:VEVENT
DTSTART;TZID=Europe/Helsinki:20250310T190000
DTEND;TZID=Europe/Helsinki:20250310T210000
DTSTAMP:20260425T154616
CREATED:20250306T135744Z
LAST-MODIFIED:20250306T135744Z
UID:1698-1741633200-1741640400@www.grafschaft-gelsdorf.de
SUMMARY:Sitzung des Ortsbeirates in Gelsdorf
DESCRIPTION:Tagesordnung der öffentlichen Sitzung des Ortsbeirates Gelsdorf: \n\nGenehmigung Niederschriften der Sitzungen des Ortsbeirates Gelsdorf vom 29.08.2024 und 26.11.2024\n5. Änderung des Flächennutzungsplans\, Teilbereich Gelsdorf sowie Aufstellung des Bebauungsplans Nr. 4.24. „Wildacker“; Änderung des Geltungsbereiches und Abstimmung der Entwicklungsszenarien\nMachbarkeitsstudie Hochwasserschutz\, Gemarkung Gelsdorf\nHochwasserschutz\nAnträge und Stellungnahme zum Nachtragshaushalt 2025 der Gemeinde Grafschaft\nWirtschaftswege – Zustand / Befahrung mit LKW / Wiederherstellung\nÜberquerung Schulkinder Bonner Straße\nDreck-weg-Tag am 05.04.2025\nMittelverwendung „Dorfzusammenleben / Vereinsförderung“\nGaragenflohmarkt\nInformationen des Ortsvorstehers
URL:https://www.grafschaft-gelsdorf.de/event/sitzung-des-ortsbeirates-in-gelsdorf/
LOCATION:Mehrzweckhalle Gelsdorf\, Grafschaft Gelsdorf\, 53501\, Germany
END:VEVENT
END:VCALENDAR