BEGIN:VCALENDAR
VERSION:2.0
PRODID:-//Grafschaft Gelsdorf - ECPv6.15.20//NONSGML v1.0//EN
CALSCALE:GREGORIAN
METHOD:PUBLISH
X-ORIGINAL-URL:https://www.grafschaft-gelsdorf.de
X-WR-CALDESC:Veranstaltungen für Grafschaft Gelsdorf
REFRESH-INTERVAL;VALUE=DURATION:PT1H
X-Robots-Tag:noindex
X-PUBLISHED-TTL:PT1H
BEGIN:VTIMEZONE
TZID:Europe/Helsinki
BEGIN:DAYLIGHT
TZOFFSETFROM:+0200
TZOFFSETTO:+0300
TZNAME:EEST
DTSTART:20230326T010000
END:DAYLIGHT
BEGIN:STANDARD
TZOFFSETFROM:+0300
TZOFFSETTO:+0200
TZNAME:EET
DTSTART:20231029T010000
END:STANDARD
BEGIN:DAYLIGHT
TZOFFSETFROM:+0200
TZOFFSETTO:+0300
TZNAME:EEST
DTSTART:20240331T010000
END:DAYLIGHT
BEGIN:STANDARD
TZOFFSETFROM:+0300
TZOFFSETTO:+0200
TZNAME:EET
DTSTART:20241027T010000
END:STANDARD
BEGIN:DAYLIGHT
TZOFFSETFROM:+0200
TZOFFSETTO:+0300
TZNAME:EEST
DTSTART:20250330T010000
END:DAYLIGHT
BEGIN:STANDARD
TZOFFSETFROM:+0300
TZOFFSETTO:+0200
TZNAME:EET
DTSTART:20251026T010000
END:STANDARD
END:VTIMEZONE
BEGIN:VEVENT
DTSTART;TZID=Europe/Helsinki:20240914T120000
DTEND;TZID=Europe/Helsinki:20240914T160000
DTSTAMP:20260423T160801
CREATED:20240804T115021Z
LAST-MODIFIED:20240913T170353Z
UID:1268-1726315200-1726329600@www.grafschaft-gelsdorf.de
SUMMARY:ABGESAGT - 1. Bunter Familienlauf
DESCRIPTION:Aufgrund zu geringer Beteiligungszahlen wurde der Lauf leider abgesagt. \n 
URL:https://www.grafschaft-gelsdorf.de/event/1-bunter-familienlauf/
END:VEVENT
BEGIN:VEVENT
DTSTART;VALUE=DATE:20240921
DTEND;VALUE=DATE:20240923
DTSTAMP:20260423T160801
CREATED:20240804T125346Z
LAST-MODIFIED:20240804T125346Z
UID:1273-1726876800-1727049599@www.grafschaft-gelsdorf.de
SUMMARY:Tischlertag und Apfelwochen in Gelsdorf im Rahmen der Apfelwochen
DESCRIPTION:Selbstpflückertag und Saftereiführung\nObsthof Sonntag\, www.obsthof-sonntag.de \nPlantagenführung zum Thema Apfelanbau früher und heute\nBioobsthof Nachtwey\, www.obsthof-nachtwey.de \nSchautischlern\, Infovorträge\, Kunsthandwerk aus Obstholz\nMöbeltischlerei Holzwerk\, www.holzwerk-moebel.de
URL:https://www.grafschaft-gelsdorf.de/event/tischlertag-und-apfelwochen-in-gelsdorf-im-rahmen-der-apfelwochen/
END:VEVENT
END:VCALENDAR