BEGIN:VCALENDAR
VERSION:2.0
PRODID:-//Grafschaft Gelsdorf - ECPv6.15.20//NONSGML v1.0//EN
CALSCALE:GREGORIAN
METHOD:PUBLISH
X-ORIGINAL-URL:https://www.grafschaft-gelsdorf.de
X-WR-CALDESC:Veranstaltungen für Grafschaft Gelsdorf
REFRESH-INTERVAL;VALUE=DURATION:PT1H
X-Robots-Tag:noindex
X-PUBLISHED-TTL:PT1H
BEGIN:VTIMEZONE
TZID:Europe/Helsinki
BEGIN:DAYLIGHT
TZOFFSETFROM:+0200
TZOFFSETTO:+0300
TZNAME:EEST
DTSTART:20230326T010000
END:DAYLIGHT
BEGIN:STANDARD
TZOFFSETFROM:+0300
TZOFFSETTO:+0200
TZNAME:EET
DTSTART:20231029T010000
END:STANDARD
BEGIN:DAYLIGHT
TZOFFSETFROM:+0200
TZOFFSETTO:+0300
TZNAME:EEST
DTSTART:20240331T010000
END:DAYLIGHT
BEGIN:STANDARD
TZOFFSETFROM:+0300
TZOFFSETTO:+0200
TZNAME:EET
DTSTART:20241027T010000
END:STANDARD
BEGIN:DAYLIGHT
TZOFFSETFROM:+0200
TZOFFSETTO:+0300
TZNAME:EEST
DTSTART:20250330T010000
END:DAYLIGHT
BEGIN:STANDARD
TZOFFSETFROM:+0300
TZOFFSETTO:+0200
TZNAME:EET
DTSTART:20251026T010000
END:STANDARD
END:VTIMEZONE
BEGIN:VEVENT
DTSTART;TZID=Europe/Helsinki:20241003T100000
DTEND;TZID=Europe/Helsinki:20241003T170000
DTSTAMP:20260423T143124
CREATED:20240912T201318Z
LAST-MODIFIED:20240913T165457Z
UID:1362-1727949600-1727974800@www.grafschaft-gelsdorf.de
SUMMARY:Garagenflohmarkt in Gelsdorf
DESCRIPTION:Unser jährlicher Garagenflohmarkt findet wieder statt. \nFlyer zum Garagenflowmarkt \nAnmeldung für Gelsdorfer über das Anmeldeformular auf der Startseite!
URL:https://www.grafschaft-gelsdorf.de/event/garagenflohmarkt-in-gelsdorf/
LOCATION:Flohmarkt\, Grafschaft-Gelsdorf\, 53501\, Germany
END:VEVENT
BEGIN:VEVENT
DTSTART;TZID=Europe/Helsinki:20241010T180000
DTEND;TZID=Europe/Helsinki:20241010T220000
DTSTAMP:20260423T143124
CREATED:20240715T095908Z
LAST-MODIFIED:20240715T095908Z
UID:844-1728583200-1728597600@www.grafschaft-gelsdorf.de
SUMMARY:Sitzung des Gemeinderates
DESCRIPTION:
URL:https://www.grafschaft-gelsdorf.de/event/sitzung-des-gemeinderates/
LOCATION:Sitzungssaal\, Ahrtalstraße 5\, Grafschaft\, 53501\, Deutschland
CATEGORIES:Gemeinde Grafschaft
END:VEVENT
BEGIN:VEVENT
DTSTART;VALUE=DATE:20241012
DTEND;VALUE=DATE:20241014
DTSTAMP:20260423T143124
CREATED:20240804T113610Z
LAST-MODIFIED:20240804T113610Z
UID:1265-1728691200-1728863999@www.grafschaft-gelsdorf.de
SUMMARY:Kleinkirmes
DESCRIPTION:
URL:https://www.grafschaft-gelsdorf.de/event/kleinkirmes/
ORGANIZER;CN="Gelsdorfer M%C3%A4nnerballett":MAILTO:info@gelsdorfer-maennerballet.de
END:VEVENT
END:VCALENDAR