BEGIN:VCALENDAR
VERSION:2.0
PRODID:-//Grafschaft Gelsdorf - ECPv6.15.20//NONSGML v1.0//EN
CALSCALE:GREGORIAN
METHOD:PUBLISH
X-ORIGINAL-URL:https://www.grafschaft-gelsdorf.de
X-WR-CALDESC:Veranstaltungen für Grafschaft Gelsdorf
REFRESH-INTERVAL;VALUE=DURATION:PT1H
X-Robots-Tag:noindex
X-PUBLISHED-TTL:PT1H
BEGIN:VTIMEZONE
TZID:Europe/Helsinki
BEGIN:DAYLIGHT
TZOFFSETFROM:+0200
TZOFFSETTO:+0300
TZNAME:EEST
DTSTART:20250330T010000
END:DAYLIGHT
BEGIN:STANDARD
TZOFFSETFROM:+0300
TZOFFSETTO:+0200
TZNAME:EET
DTSTART:20251026T010000
END:STANDARD
BEGIN:DAYLIGHT
TZOFFSETFROM:+0200
TZOFFSETTO:+0300
TZNAME:EEST
DTSTART:20260329T010000
END:DAYLIGHT
BEGIN:STANDARD
TZOFFSETFROM:+0300
TZOFFSETTO:+0200
TZNAME:EET
DTSTART:20261025T010000
END:STANDARD
BEGIN:DAYLIGHT
TZOFFSETFROM:+0200
TZOFFSETTO:+0300
TZNAME:EEST
DTSTART:20270328T010000
END:DAYLIGHT
BEGIN:STANDARD
TZOFFSETFROM:+0300
TZOFFSETTO:+0200
TZNAME:EET
DTSTART:20271031T010000
END:STANDARD
END:VTIMEZONE
BEGIN:VEVENT
DTSTART;TZID=Europe/Helsinki:20261106T160000
DTEND;TZID=Europe/Helsinki:20261106T200000
DTSTAMP:20260423T143739
CREATED:20251223T072345Z
LAST-MODIFIED:20251223T072345Z
UID:2014-1793980800-1793995200@www.grafschaft-gelsdorf.de
SUMMARY:St. Martin in Gelsdorf
DESCRIPTION:Infos folgen
URL:https://www.grafschaft-gelsdorf.de/event/st-martin-in-gelsdorf-2/
LOCATION:Gelsdorf
END:VEVENT
BEGIN:VEVENT
DTSTART;TZID=Europe/Helsinki:20261110T080000
DTEND;TZID=Europe/Helsinki:20261110T170000
DTSTAMP:20260423T143739
CREATED:20251223T072429Z
LAST-MODIFIED:20251223T072429Z
UID:2017-1794297600-1794330000@www.grafschaft-gelsdorf.de
SUMMARY:Seniorennachmittag
DESCRIPTION:Infos folgen
URL:https://www.grafschaft-gelsdorf.de/event/seniorennachmittag-20/
LOCATION:Pfarrheim Gelsdorf\, Bonner Str. 30\, Grafschaft\, 53501
END:VEVENT
BEGIN:VEVENT
DTSTART;TZID=Europe/Helsinki:20261128T160000
DTEND;TZID=Europe/Helsinki:20261128T230000
DTSTAMP:20260423T143739
CREATED:20251223T072538Z
LAST-MODIFIED:20251223T072538Z
UID:2020-1795881600-1795906800@www.grafschaft-gelsdorf.de
SUMMARY:5. Dorfweihnacht
DESCRIPTION:Infos folgen
URL:https://www.grafschaft-gelsdorf.de/event/5-dorfweihnacht/
LOCATION:Hinter dem Pfarrheim\, Bonner Straße
END:VEVENT
END:VCALENDAR